Workbook
Name AwayD1P1: Opsætning!$D$11
Name AwayD1P2: Opsætning!$D$12
Name AwayD2P1: Opsætning!$D$15
Name AwayD2P2: Opsætning!$D$16
Name awayPlayerHcp: Data!$J$2:$J$100
Name awayPlayerNames: Data!$H$2:$H$100
Name awayPlayersActive: Opsætning!$D$21:$D$25
Name AwayRes: Opsætning!$D$18
Name awayTeam: Opsætning!$F$8
Name awayTeamPlayers: Data!$I$2:$I$100
Name forlidt: Tekst!$A$3
Name formange: Tekst!$A$2
Name homeD1P1: Opsætning!$B$11
Name HomeD1P2: Opsætning!$B$12
Name HomeD2P1: Opsætning!$B$15
Name HomeD2P2: Opsætning!$B$16
Name homeDP1: Opsætning!$B$11
Name HomeDP2: Opsætning!$B$12
Name homePlayerHcp: Data!$D$2:$D$100
Name homePlayerNames: Data!$B$2:$B$100
Name homePlayersActive: Opsætning!$B$21:$B$25
Name HomeRes: Opsætning!$B$18
Name homeTeam: Opsætning!$C$8
Name homeTeamPlayers: Data!$C$2:$C$100
Name serie1hjemmeok: 'Serie 1'!$AD$8
Name serie1names: 'Serie 1'!$AG$6:$AG$15
Name serie1ok: 'Serie 1'!$AD$8
Name serie1score: 'Serie 1'!$AH$6:$AH$15
Name serie1udeok: 'Serie 1'!$AD$14
Name serie2hjemmeok: 'Serie 2'!$AD$8
Name serie2names: 'Serie 2'!$AG$5:$AG$15
Name serie2score: 'Serie 2'!$AH$5:$AH$15
Name serie2udeok: 'Serie 2'!$AD$14
Name serie3hjemmeok: 'Serie 3'!$AD$8
Name serie3names: 'Serie 3'!$AG$6:$AG$15
Name serie3score: 'Serie 3'!$AH$6:$AH$15
Name serie3udeok: 'Serie 3'!$AD$14
Name serie4names: 'Serie 4'!$AG$6:$AG$15
Name serie4score: 'Serie 4'!$AH$6:$AH$15

Sheet Data
C1: Hjemme | D1: hcp | I1: Ude | J1: hcp
A3: 200258-01 | B3: Jens Kristian Albrektsen | C3: =IF(B3<>"",B3&" ("&A3&")","") | D3: 28 | G3: 120245-01 | H3: Benthe Jørgensen | I3: =IF(H3<>"",H3&" ("&G3&")","") | J3: 42
A4: 311045-01 | B4: Jørn Rostgaard Sørensen | C4: =IF(B4<>"",B4&" ("&A4&")","") | D4: 7 | G4: 070446-01 | H4: Frede Dorph Møller Christensen | I4: =IF(H4<>"",H4&" ("&G4&")","") | J4: 35
A5: 060954-01 | B5: Ole Nielsen | C5: =IF(B5<>"",B5&" ("&A5&")","") | D5: 42 | G5: 310560-01 | H5: Gert Nielsen | I5: =IF(H5<>"",H5&" ("&G5&")","") | J5: 42
A6: 180952-01 | B6: Svend Holm | C6: =IF(B6<>"",B6&" ("&A6&")","") | D6: 21 | G6: 220342-01 | H6: Gert Olsen | I6: =IF(H6<>"",H6&" ("&G6&")","") | J6: 42
A7: 110248-01 | B7: Svend Madsen | C7: =IF(B7<>"",B7&" ("&A7&")","") | D7: 21 | G7: 010446-01 | H7: Kaj Jørgensen | I7: =IF(H7<>"",H7&" ("&G7&")","") | J7: 14
A8: 080244-01 | B8: Vagn Urth | C8: =IF(B8<>"",B8&" ("&A8&")","") | D8: 35 | G8: 050574-01 | H8: Kenneth Jørgensen | I8: =IF(H8<>"",H8&" ("&G8&")","") | J8: 21
C9: =IF(B9<>"",B9&" ("&A9&")","") | G9: 311251-01 | H9: Kurt Andersen | I9: =IF(H9<>"",H9&" ("&G9&")","") | J9: 35
C10: =IF(B10<>"",B10&" ("&A10&")","") | G10: 091046-01 | H10: Lennard Karl Jensen | I10: =IF(H10<>"",H10&" ("&G10&")","") | J10: 49
C11: =IF(B11<>"",B11&" ("&A11&")","") | G11: 110745-01 | H11: Lissy Olsen | I11: =IF(H11<>"",H11&" ("&G11&")","") | J11: 42
C12: =IF(B12<>"",B12&" ("&A12&")","") | I12: =IF(H12<>"",H12&" ("&G12&")","")
C13: =IF(B13<>"",B13&" ("&A13&")","") | I13: =IF(H13<>"",H13&" ("&G13&")","")
C14: =IF(B14<>"",B14&" ("&A14&")","") | I14: =IF(H14<>"",H14&" ("&G14&")","")
C15: =IF(B15<>"",B15&" ("&A15&")","") | I15: =IF(H15<>"",H15&" ("&G15&")","")
C16: =IF(B16<>"",B16&" ("&A16&")","") | I16: =IF(H16<>"",H16&" ("&G16&")","")
C17: =IF(B17<>"",B17&" ("&A17&")","") | I17: =IF(H17<>"",H17&" ("&G17&")","")
C18: =IF(B18<>"",B18&" ("&A18&")","") | I18: =IF(H18<>"",H18&" ("&G18&")","")
C19: =IF(B19<>"",B19&" ("&A19&")","") | I19: =IF(H19<>"",H19&" ("&G19&")","")
C20: =IF(B20<>"",B20&" ("&A20&")","") | I20: =IF(H20<>"",H20&" ("&G20&")","")
C21: =IF(B21<>"",B21&" ("&A21&")","") | I21: =IF(H21<>"",H21&" ("&G21&")","")
C22: =IF(B22<>"",B22&" ("&A22&")","") | I22: =IF(H22<>"",H22&" ("&G22&")","")
C23: =IF(B23<>"",B23&" ("&A23&")","") | I23: =IF(H23<>"",H23&" ("&G23&")","")
... C150: =IF(B150<>"",B150&" ("&A150&")","") | I150: =IF(H150<>"",H150&" ("&G150&")","")

Sheet Opsætning
A1: Lokal Turnering Aalborg
A3: Kamp | C3: Ugedag | E3: Dato | F3: Tid
A4: 183 | C4: Lørdag | E4: 44261 | F4: 10:00
C7: Hjemme | F7: Ude
A8: Hold | C8: BK Strike | F8: Danish Prime
A10: Double 1
A11: Spiller 1 | B11: =IFERROR(INDEX(homePlayerNames,MATCH(Opsætning!C11,homeTeamPlayers,)),"") | D11: =IFERROR(INDEX(awayPlayerNames,MATCH(Opsætning!F11,awayTeamPlayers,)),"")
A12: Spiller 2 | B12: =IFERROR(INDEX(homePlayerNames,MATCH(Opsætning!C12,homeTeamPlayers,)),"") | D12: =IFERROR(INDEX(awayPlayerNames,MATCH(Opsætning!F12,awayTeamPlayers,)),"")
A14: Double 2
A15: Spiller 1 | B15: =IFERROR(INDEX(homePlayerNames,MATCH(Opsætning!C15,homeTeamPlayers,)),"") | D15: =IFERROR(INDEX(awayPlayerNames,MATCH(Opsætning!F15,awayTeamPlayers,)),"")
A16: Spiller 2 | B16: =IFERROR(INDEX(homePlayerNames,MATCH(Opsætning!C16,homeTeamPlayers,)),"") | D16: =IFERROR(INDEX(awayPlayerNames,MATCH(Opsætning!F16,awayTeamPlayers,)),"")
A18: Udskifter | B18: =IFERROR(INDEX(homePlayerNames,MATCH(Opsætning!C18,homeTeamPlayers,)),"") | D18: =IFERROR(INDEX(awayPlayerNames,MATCH(Opsætning!F18,awayTeamPlayers,)),"")
B21: =homeD1P1 | D21: =AwayD1P1
B22: =HomeD1P2 | D22: =AwayD1P2
B23: =HomeD2P1 | D23: =AwayD2P1
B24: =HomeD2P2 | D24: =AwayD2P2
B25: =HomeRes | D25: =AwayRes

Sheet Serie 1
B1: Serie 1
B3: 1. banesæt | G3: 2. banesæt | L3: Keglepoint | AA3: Res | AC3: dou 1 | AD3: dou 2
B5: Navn | C5: Score | D5: Hcp | E5: Total | G5: Navn | H5: Score | I5: Hcp | J5: Total | L5: Hold | M5: Score | N5: Hcp | O5: Total | P5: Point | AA5: Hjemme | AC5: =COUNTBLANK(C6:C8) -> 3 | AD5: =COUNTBLANK(H6:H8) -> 3
A6: Hjemme | B6: =IFERROR(homeD1P1,"") | D6: =IFERROR(INDEX(homePlayerHcp,MATCH(B6,homePlayerNames,0)),0) -> 0 | E6: =IF(C6<>"",SUM(C6:D6),0) -> 0 | G6: =IFERROR(HomeD2P1,"") | I6: =IFERROR(INDEX(homePlayerHcp,MATCH(G6,homePlayerNames,0)),0) -> 0 | J6: =IF(H6<>"",SUM(H6:I6),0) -> 0 | L6: =homeTeam -> BK Nordkraft | M6: =SUM(C9,H9) -> 0 | N6: =SUM(D9,I9) -> 0 | O6: =SUM(M6:N6) -> 0 | P6: =IF(O6>O7,2,IF(O6=O7,1,0)) -> 1 | AA6: =HomeRes | AC6: =IF(AC5=1,"ok",IF(AC5>1,forlidt,formange)) -> Mangler indtastninger | AD6: =IF(AD5=1,"ok",IF(AD5>1,forlidt,formange)) -> Mangler indtastninger | AG6: =B6 | AH6: =IF(C6<>"",C6,"")
B7: =IFERROR(HomeD1P2,"") | D7: =IFERROR(INDEX(homePlayerHcp,MATCH(B7,homePlayerNames,0)),0) -> 0 | E7: =IF(C7<>"",SUM(C7:D7),0) -> 0 | G7: =IFERROR(HomeD2P2,"") | I7: =IFERROR(INDEX(homePlayerHcp,MATCH(G7,homePlayerNames,0)),0) -> 0 | J7: =IF(H7<>"",SUM(H7:I7),0) -> 0 | L7: =awayTeam -> Five O' Clock | M7: =SUM(C15,H15) -> 0 | N7: =SUM(D15,I15) -> 0 | O7: =SUM(M7:N7) -> 0 | P7: =2-P6 -> 1 | AC7: =IF(C6="",B6,IF(C7="",B7,"")) | AD7: =IF(H6="",G6,IF(H7="",G7,"")) | AG7: =B7 | AH7: =IF(C7<>"",C7,"")
B8: Fælles serie | D8: 0 | E8: =C8 -> 0 | G8: Fælles serie | I8: 0 | J8: =H8 -> 0 | AA8: =IF(COUNTIF(AC6:AD6,"ok")=2,AC8,"") | AC8: =IF(AC7<>"",AC7,IF(AD7<>"",AD7,AA6)) | AD8: =IF(COUNTIF(AC6:AD6,"ok")=2,TRUE,FALSE) -> FALSE | AG8: =G6 | AH8: =IF(H6<>"",H6,"")
B9: Total | C9: =SUM(C6:C8) -> 0 | D9: =IF(C6<>0,D6,0)+IF(C7<>"",D7,0) -> 0 | E9: =SUM(E6:E8) -> 0 | G9: Total | H9: =SUM(H6:H8) -> 0 | I9: =IF(H6<>0,I6,0)+IF(H7<>"",I7,0) -> 0 | J9: =SUM(J6:J8) -> 0 | L9: Stilling | AG9: =G7 | AH9: =IF(H7<>"",H7,"")
B10: Point | E10: =IF(E9>E15,2,IF(E9=E15,1,0)) -> 1 | G10: Point | J10: =IF(J9>J15,2,IF(J9=J15,1,0)) -> 1
B11: Navn | C11: Score | D11: Hcp | E11: Total | G11: Navn | H11: Score | I11: Hcp | J11: Total | L11: Hold | M11: Serie 1 | N11: Total | AA11: Ude | AC11: =COUNTBLANK(C12:C14) -> 3 | AD11: =COUNTBLANK(H12:H14) -> 3
A12: Ude | B12: =IFERROR(AwayD1P1,"") | D12: =IFERROR(INDEX(awayPlayerHcp,MATCH(B12,awayPlayerNames,0)),0) -> 0 | E12: =IF(C12<>"",SUM(C12:D12),0) -> 0 | G12: =IFERROR(AwayD2P1,"") | I12: =IFERROR(INDEX(awayPlayerHcp,MATCH(G12,awayPlayerNames,0)),0) -> 0 | J12: =IF(H12<>"",SUM(H12:I12),0) -> 0 | L12: =homeTeam -> BK Nordkraft | M12: =SUM(E10,J10,P6) -> 3 | N12: =SUM(M12:M12) -> 3 | AA12: =AwayRes | AC12: =IF(AC11=1,"ok",IF(AC11>1,forlidt,formange)) -> Mangler indtastninger | AD12: =IF(AD11=1,"ok",IF(AD11>1,forlidt,formange)) -> Mangler indtastninger | AG12: =B12 | AH12: =IF(C12<>"",C12,"")
B13: =IFERROR(AwayD1P2,"") | D13: =IFERROR(INDEX(awayPlayerHcp,MATCH(B13,awayPlayerNames,0)),0) -> 0 | E13: =IF(C13<>"",SUM(C13:D13),0) -> 0 | G13: =IFERROR(AwayD2P2,"") | I13: =IFERROR(INDEX(awayPlayerHcp,MATCH(G13,awayPlayerNames,0)),0) -> 0 | J13: =IF(H13<>"",SUM(H13:I13),0) -> 0 | L13: =awayTeam -> Five O' Clock | M13: =SUM(E16,J16,P7) -> 3 | N13: =SUM(M13:M13) -> 3 | AC13: =IF(C12="",B12,IF(C13="",B13,"")) | AD13: =IF(H12="",G12,IF(H13="",G13,"")) | AG13: =B13 | AH13: =IF(C13<>"",C13,"")
B14: Fælles serie | D14: 0 | E14: =C14 -> 0 | G14: Fælles serie | I14: 0 | J14: =H14 -> 0 | AA14: =IF(COUNTIF(AC12:AD12,"ok")=2,AC14,"") | AC14: =IF(AC13<>"",AC13,IF(AD13<>"",AD13,AA12)) | AD14: =IF(COUNTIF(AC12:AD12,"ok")=2,TRUE,FALSE) -> FALSE | AG14: =G12 | AH14: =IF(H12<>"",H12,"")
B15: Total | C15: =SUM(C12:C14) -> 0 | D15: =IF(C12<>0,D12,0)+IF(C13<>"",D13,0) -> 0 | E15: =SUM(E12:E14) -> 0 | G15: Total | H15: =SUM(H12:H14) -> 0 | I15: =IF(H12<>0,I12,0)+IF(H13<>"",I13,0) -> 0 | J15: =SUM(J12:J14) -> 0 | AG15: =G13 | AH15: =IF(H13<>"",H13,"")
B16: Point | E16: =2-E10 -> 1 | G16: Point | J16: =2-J10 -> 1

Sheet Serie 2
B1: Serie 2
B3: 1. banesæt | G3: 2. banesæt | L3: Keglepoint | AA3: Res | AC3: dou 1 | AD3: dou 2
B5: Navn | C5: Score | D5: Hcp | E5: Total | G5: Navn | H5: Score | I5: Hcp | J5: Total | L5: Hold | M5: Score | N5: Hcp | O5: Total | P5: Point | AA5: Hjemme | AC5: =COUNTBLANK(C6:C8) -> 3 | AD5: =COUNTBLANK(H6:H8) -> 3
A6: Hjemme | B6: =IF('Serie 1'!C6<>"",'Serie 1'!B6,IF(serie1hjemmeok,'Serie 1'!$AA$6,"")) | D6: =IFERROR(INDEX(homePlayerHcp,MATCH(B6,homePlayerNames,0)),0) -> 0 | E6: =IF(C6<>"",SUM(C6:D6),0) -> 0 | G6: =IF('Serie 1'!H6<>"",'Serie 1'!G6,IF(serie1hjemmeok,'Serie 1'!$AA$6,"")) | I6: =IFERROR(INDEX(homePlayerHcp,MATCH(G6,homePlayerNames,0)),0) -> 0 | J6: =IF(H6<>"",SUM(H6:I6),0) -> 0 | L6: =homeTeam -> BK Nordkraft | M6: =SUM(C9,H9) -> 0 | N6: =SUM(D9,I9) -> 0 | O6: =SUM(M6:N6) -> 0 | P6: =IF(O6>O7,2,IF(O6=O7,1,0)) -> 1 | AA6: ='Serie 1'!AA8 | AC6: =IF(AC5=1,"ok",IF(AC5>1,forlidt,formange)) -> Mangler indtastninger | AD6: =IF(AD5=1,"ok",IF(AD5>1,forlidt,formange)) -> Mangler indtastninger | AG6: =B6 | AH6: =IF(C6<>"",C6,"")
B7: =IF('Serie 1'!C7<>"",'Serie 1'!B7,IF(serie1hjemmeok,'Serie 1'!$AA$6,"")) | D7: =IFERROR(INDEX(homePlayerHcp,MATCH(B7,homePlayerNames,0)),0) -> 0 | E7: =IF(C7<>"",SUM(C7:D7),0) -> 0 | G7: =IF('Serie 1'!H7<>"",'Serie 1'!G7,IF(serie1hjemmeok,'Serie 1'!$AA$6,"")) | I7: =IFERROR(INDEX(homePlayerHcp,MATCH(G7,homePlayerNames,0)),0) -> 0 | J7: =IF(H7<>"",SUM(H7:I7),0) -> 0 | L7: =awayTeam -> Five O' Clock | M7: =SUM(C15,H15) -> 0 | N7: =SUM(D15,I15) -> 0 | O7: =SUM(M7:N7) -> 0 | P7: =2-P6 -> 1 | AC7: =IF(C6="",B6,IF(C7="",B7,"")) | AD7: =IF(H6="",G6,IF(H7="",G7,"")) | AG7: =B7 | AH7: =IF(C7<>"",C7,"")
B8: Fælles serie | D8: 0 | E8: =C8 -> 0 | G8: Fælles serie | I8: 0 | J8: =H8 -> 0 | AA8: =IF(COUNTIF(AC6:AD6,"ok")=2,AC8,"") | AC8: =IF(AC7<>"",AC7,IF(AD7<>"",AD7,AA6)) | AD8: =IF(COUNTIF(AC6:AD6,"ok")=2,TRUE,FALSE) -> FALSE | AG8: =G6 | AH8: =IF(H6<>"",H6,"")
B9: Total | C9: =SUM(C6:C8) -> 0 | D9: =IF(C6<>0,D6,0)+IF(C7<>"",D7,0) -> 0 | E9: =SUM(E6:E8) -> 0 | G9: Total | H9: =SUM(H6:H8) -> 0 | I9: =IF(H6<>0,I6,0)+IF(H7<>"",I7,0) -> 0 | J9: =SUM(J6:J8) -> 0 | L9: Stilling | AG9: =G7 | AH9: =IF(H7<>"",H7,"")
B10: Point | E10: =IF(E9>E15,2,IF(E9=E15,1,0)) -> 1 | G10: Point | J10: =IF(J9>J15,2,IF(J9=J15,1,0)) -> 1
B11: Navn | C11: Score | D11: Hcp | E11: Total | G11: Navn | H11: Score | I11: Hcp | J11: Total | L11: Hold | M11: Serie 1 | N11: Serie 2 | O11: Total | AA11: Ude | AC11: =COUNTBLANK(C12:C14) -> 3 | AD11: =COUNTBLANK(H12:H14) -> 3
A12: Ude | B12: =IF('Serie 1'!H12<>"",'Serie 1'!G12,IF(serie1udeok,'Serie 1'!$AA$12,"")) | D12: =IFERROR(INDEX(awayPlayerHcp,MATCH(B12,awayPlayerNames,0)),0) -> 0 | E12: =IF(C12<>"",SUM(C12:D12),0) -> 0 | G12: =IF('Serie 1'!C12<>"",'Serie 1'!B12,IF(serie1udeok,'Serie 1'!$AA$12,"")) | I12: =IFERROR(INDEX(awayPlayerHcp,MATCH(G12,awayPlayerNames,0)),0) -> 0 | J12: =IF(H12<>"",SUM(H12:I12),0) -> 0 | L12: =homeTeam -> BK Nordkraft | M12: ='Serie 1'!M12 -> 3 | N12: =SUM(E10,J10,P6) -> 3 | O12: =SUM(M12:N12) -> 6 | AA12: ='Serie 1'!AA14 | AC12: =IF(AC11=1,"ok",IF(AC11>1,forlidt,formange)) -> Mangler indtastninger | AD12: =IF(AD11=1,"ok",IF(AD11>1,forlidt,formange)) -> Mangler indtastninger | AG12: =B12 | AH12: =IF(C12<>"",C12,"")
B13: =IF('Serie 1'!H13<>"",'Serie 1'!G13,IF(serie1udeok,'Serie 1'!$AA$12,"")) | D13: =IFERROR(INDEX(awayPlayerHcp,MATCH(B13,awayPlayerNames,0)),0) -> 0 | E13: =IF(C13<>"",SUM(C13:D13),0) -> 0 | G13: =IF('Serie 1'!C13<>"",'Serie 1'!B13,IF(serie1udeok,'Serie 1'!$AA$12,"")) | I13: =IFERROR(INDEX(awayPlayerHcp,MATCH(G13,awayPlayerNames,0)),0) -> 0 | J13: =IF(H13<>"",SUM(H13:I13),0) -> 0 | L13: =awayTeam -> Five O' Clock | M13: ='Serie 1'!M13 -> 3 | N13: =SUM(E16,J16,P7) -> 3 | O13: =SUM(M13:N13) -> 6 | AC13: =IF(C12="",B12,IF(C13="",B13,"")) | AD13: =IF(H12="",G12,IF(H13="",G13,"")) | AG13: =B13 | AH13: =IF(C13<>"",C13,"")
B14: Fælles serie | D14: 0 | E14: =C14 -> 0 | G14: Fælles serie | I14: 0 | J14: =H14 -> 0 | AA14: =IF(COUNTIF(AC12:AD12,"ok")=2,AC14,"") | AC14: =IF(AC13<>"",AC13,IF(AD13<>"",AD13,AA12)) | AD14: =IF(COUNTIF(AC12:AD12,"ok")=2,TRUE,FALSE) -> FALSE | AG14: =G12 | AH14: =IF(H12<>"",H12,"")
B15: Total | C15: =SUM(C12:C14) -> 0 | D15: =IF(C12<>0,D12,0)+IF(C13<>"",D13,0) -> 0 | E15: =SUM(E12:E14) -> 0 | G15: Total | H15: =SUM(H12:H14) -> 0 | I15: =IF(H12<>0,I12,0)+IF(H13<>"",I13,0) -> 0 | J15: =SUM(J12:J14) -> 0 | AG15: =G13 | AH15: =IF(H13<>"",H13,"")
B16: Point | E16: =2-E10 -> 1 | G16: Point | J16: =2-J10 -> 1

Sheet Serie 3
B1: Serie 3
B3: 1. banesæt | G3: 2. banesæt | L3: Keglepoint | AA3: Res | AC3: dou 1 | AD3: dou 2
B5: Navn | C5: Score | D5: Hcp | E5: Total | G5: Navn | H5: Score | I5: Hcp | J5: Total | L5: Hold | M5: Score | N5: Hcp | O5: Total | P5: Point | AA5: Hjemme | AC5: =COUNTBLANK(C6:C8) -> 3 | AD5: =COUNTBLANK(H6:H8) -> 3
A6: Hjemme | B6: =IF('Serie 2'!H6<>"",'Serie 2'!G6,IF(serie2hjemmeok,'Serie 2'!$AA$6,"")) | D6: =IFERROR(INDEX(homePlayerHcp,MATCH(B6,homePlayerNames,0)),0) -> 0 | E6: =IF(C6<>"",SUM(C6:D6),0) -> 0 | G6: =IF('Serie 2'!C6<>"",'Serie 2'!B6,IF(serie2hjemmeok,'Serie 2'!$AA$6,"")) | I6: =IFERROR(INDEX(homePlayerHcp,MATCH(G6,homePlayerNames,0)),0) -> 0 | J6: =IF(H6<>"",SUM(H6:I6),0) -> 0 | L6: =homeTeam -> BK Nordkraft | M6: =SUM(C9,H9) -> 0 | N6: =SUM(D9,I9) -> 0 | O6: =SUM(M6:N6) -> 0 | P6: =IF(O6>O7,2,IF(O6=O7,1,0)) -> 1 | AA6: ='Serie 1'!AA8 | AC6: =IF(AC5=1,"ok",IF(AC5>1,forlidt,formange)) -> Mangler indtastninger | AD6: =IF(AD5=1,"ok",IF(AD5>1,forlidt,formange)) -> Mangler indtastninger | AG6: =B6 | AH6: =IF(C6<>"",C6,"")
B7: =IF('Serie 2'!H7<>"",'Serie 2'!G7,IF(serie2hjemmeok,'Serie 2'!$AA$6,"")) | D7: =IFERROR(INDEX(homePlayerHcp,MATCH(B7,homePlayerNames,0)),0) -> 0 | E7: =IF(C7<>"",SUM(C7:D7),0) -> 0 | G7: =IF('Serie 2'!C7<>"",'Serie 2'!B7,IF(serie2hjemmeok,'Serie 2'!$AA$6,"")) | I7: =IFERROR(INDEX(homePlayerHcp,MATCH(G7,homePlayerNames,0)),0) -> 0 | J7: =IF(H7<>"",SUM(H7:I7),0) -> 0 | L7: =awayTeam -> Five O' Clock | M7: =SUM(C15,H15) -> 0 | N7: =SUM(D15,I15) -> 0 | O7: =SUM(M7:N7) -> 0 | P7: =2-P6 -> 1 | AC7: =IF(C6="",B6,IF(C7="",B7,"")) | AD7: =IF(H6="",G6,IF(H7="",G7,"")) | AG7: =B7 | AH7: =IF(C7<>"",C7,"")
B8: Fælles serie | D8: 0 | E8: =C8 -> 0 | G8: Fælles serie | I8: 0 | J8: =H8 -> 0 | AA8: =IF(COUNTIF(AC6:AD6,"ok")=2,AC8,"") | AC8: =IF(AC7<>"",AC7,IF(AD7<>"",AD7,AA6)) | AD8: =IF(COUNTIF(AC6:AD6,"ok")=2,TRUE,FALSE) -> FALSE | AG8: =G6 | AH8: =IF(H6<>"",H6,"")
B9: Total | C9: =SUM(C6:C8) -> 0 | D9: =IF(C6<>0,D6,0)+IF(C7<>"",D7,0) -> 0 | E9: =SUM(E6:E8) -> 0 | G9: Total | H9: =SUM(H6:H8) -> 0 | I9: =IF(H6<>0,I6,0)+IF(H7<>"",I7,0) -> 0 | J9: =SUM(J6:J8) -> 0 | L9: Stilling | AG9: =G7 | AH9: =IF(H7<>"",H7,"")
B10: Point | E10: =IF(E9>E15,2,IF(E9=E15,1,0)) -> 1 | G10: Point | J10: =IF(J9>J15,2,IF(J9=J15,1,0)) -> 1
B11: Navn | C11: Score | D11: Hcp | E11: Total | G11: Navn | H11: Score | I11: Hcp | J11: Total | L11: Hold | M11: Serie 1 | N11: Serie 2 | O11: Serie 3 | P11: Total | AA11: Ude | AC11: =COUNTBLANK(C12:C14) -> 3 | AD11: =COUNTBLANK(H12:H14) -> 3
A12: Ude | B12: =IF('Serie 2'!C12<>"",'Serie 2'!B12,IF(serie2udeok,'Serie 2'!$AA$12,"")) | D12: =IFERROR(INDEX(awayPlayerHcp,MATCH(B12,awayPlayerNames,0)),0) -> 0 | E12: =IF(C12<>"",SUM(C12:D12),0) -> 0 | G12: =IF('Serie 2'!H12<>"",'Serie 2'!G12,IF(serie2udeok,'Serie 2'!$AA$12,"")) | I12: =IFERROR(INDEX(awayPlayerHcp,MATCH(G12,awayPlayerNames,0)),0) -> 0 | J12: =IF(H12<>"",SUM(H12:I12),0) -> 0 | L12: =homeTeam -> BK Nordkraft | M12: ='Serie 2'!M12 -> 3 | N12: ='Serie 2'!N12 -> 3 | O12: =SUM(E10,J10,P6) -> 3 | P12: =SUM(M12:O12) -> 9 | AA12: ='Serie 1'!AA14 | AC12: =IF(AC11=1,"ok",IF(AC11>1,forlidt,formange)) -> Mangler indtastninger | AD12: =IF(AD11=1,"ok",IF(AD11>1,forlidt,formange)) -> Mangler indtastninger | AG12: =B12 | AH12: =IF(C12<>"",C12,"")
B13: =IF('Serie 2'!C13<>"",'Serie 2'!B13,IF(serie2udeok,'Serie 2'!$AA$12,"")) | D13: =IFERROR(INDEX(awayPlayerHcp,MATCH(B13,awayPlayerNames,0)),0) -> 0 | E13: =IF(C13<>"",SUM(C13:D13),0) -> 0 | G13: =IF('Serie 2'!H13<>"",'Serie 2'!G13,IF(serie2udeok,'Serie 2'!$AA$12,"")) | I13: =IFERROR(INDEX(awayPlayerHcp,MATCH(G13,awayPlayerNames,0)),0) -> 0 | J13: =IF(H13<>"",SUM(H13:I13),0) -> 0 | L13: =awayTeam -> Five O' Clock | M13: ='Serie 2'!M13 -> 3 | N13: ='Serie 2'!N13 -> 3 | O13: =SUM(E16,J16,P7) -> 3 | P13: =SUM(M13:O13) -> 9 | AC13: =IF(C12="",B12,IF(C13="",B13,"")) | AD13: =IF(H12="",G12,IF(H13="",G13,"")) | AG13: =B13 | AH13: =IF(C13<>"",C13,"")
B14: Fælles serie | D14: 0 | E14: =C14 -> 0 | G14: Fælles serie | I14: 0 | J14: =H14 -> 0 | AA14: =IF(COUNTIF(AC12:AD12,"ok")=2,AC14,"") | AC14: =IF(AC13<>"",AC13,IF(AD13<>"",AD13,AA12)) | AD14: =IF(COUNTIF(AC12:AD12,"ok")=2,TRUE,FALSE) -> FALSE | AG14: =G12 | AH14: =IF(H12<>"",H12,"")
B15: Total | C15: =SUM(C12:C14) -> 0 | D15: =IF(C12<>0,D12,0)+IF(C13<>"",D13,0) -> 0 | E15: =SUM(E12:E14) -> 0 | G15: Total | H15: =SUM(H12:H14) -> 0 | I15: =IF(H12<>0,I12,0)+IF(H13<>"",I13,0) -> 0 | J15: =SUM(J12:J14) -> 0 | AG15: =G13 | AH15: =IF(H13<>"",H13,"")
B16: Point | E16: =2-E10 -> 1 | G16: Point | J16: =2-J10 -> 1

Sheet Serie 4
B1: Serie 4
B3: 1. banesæt | G3: 2. banesæt | L3: Keglepoint
B5: Navn | C5: Score | D5: Hcp | E5: Total | G5: Navn | H5: Score | I5: Hcp | J5: Total | L5: Hold | M5: Score | N5: Hcp | O5: Total | P5: Point
A6: Hjemme | B6: =IF('Serie 3'!C6<>"",'Serie 3'!B6,IF(serie3hjemmeok,'Serie 3'!$AA$6,"")) | D6: =IFERROR(INDEX(homePlayerHcp,MATCH(B6,homePlayerNames,0)),0) -> 0 | E6: =IF(C6<>"",SUM(C6:D6),0) -> 0 | G6: =IF('Serie 3'!H6<>"",'Serie 3'!G6,IF(serie3hjemmeok,'Serie 3'!$AA$6,"")) | I6: =IFERROR(INDEX(homePlayerHcp,MATCH(G6,homePlayerNames,0)),0) -> 0 | J6: =IF(H6<>"",SUM(H6:I6),0) -> 0 | L6: =homeTeam -> BK Nordkraft | M6: =SUM(C9,H9) -> 0 | N6: =SUM(D9,I9) -> 0 | O6: =SUM(M6:N6) -> 0 | P6: =IF(O6>O7,2,IF(O6=O7,1,0)) -> 1 | AG6: =B6 | AH6: =IF(C6<>"",C6,"")
B7: =IF('Serie 3'!C7<>"",'Serie 3'!B7,IF(serie3hjemmeok,'Serie 3'!$AA$6,"")) | D7: =IFERROR(INDEX(homePlayerHcp,MATCH(B7,homePlayerNames,0)),0) -> 0 | E7: =IF(C7<>"",SUM(C7:D7),0) -> 0 | G7: =IF('Serie 3'!H7<>"",'Serie 3'!G7,IF(serie3hjemmeok,'Serie 3'!$AA$6,"")) | I7: =IFERROR(INDEX(homePlayerHcp,MATCH(G7,homePlayerNames,0)),0) -> 0 | J7: =IF(H7<>"",SUM(H7:I7),0) -> 0 | L7: =awayTeam -> Five O' Clock | M7: =SUM(C15,H15) -> 0 | N7: =SUM(D15,I15) -> 0 | O7: =SUM(M7:N7) -> 0 | P7: =2-P6 -> 1 | AG7: =B7 | AH7: =IF(C7<>"",C7,"")
B8: Fælles serie | D8: 0 | E8: =C8 -> 0 | G8: Fælles serie | I8: 0 | J8: =H8 -> 0 | AG8: =G6 | AH8: =IF(H6<>"",H6,"")
B9: Total | C9: =SUM(C6:C8) -> 0 | D9: =IF(C6<>0,D6,0)+IF(C7<>"",D7,0) -> 0 | E9: =SUM(E6:E8) -> 0 | G9: Total | H9: =SUM(H6:H8) -> 0 | I9: =IF(H6<>0,I6,0)+IF(H7<>"",I7,0) -> 0 | J9: =SUM(J6:J8) -> 0 | L9: Stilling | AG9: =G7 | AH9: =IF(H7<>"",H7,"")
B10: Point | E10: =IF(E9>E15,2,IF(E9=E15,1,0)) -> 1 | G10: Point | J10: =IF(J9>J15,2,IF(J9=J15,1,0)) -> 1
B11: Navn | C11: Score | D11: Hcp | E11: Total | G11: Navn | H11: Score | I11: Hcp | J11: Total | L11: Hold | M11: Serie 1 | N11: Serie 2 | O11: Serie 3 | P11: Serie 4 | Q11: Total
A12: Ude | B12: =IF('Serie 3'!H12<>"",'Serie 3'!G12,IF(serie3udeok,'Serie 3'!$AA$12,"")) | D12: =IFERROR(INDEX(awayPlayerHcp,MATCH(B12,awayPlayerNames,0)),0) -> 0 | E12: =IF(C12<>"",SUM(C12:D12),0) -> 0 | G12: =IF('Serie 3'!C12<>"",'Serie 3'!B12,IF(serie3udeok,'Serie 3'!$AA$12,"")) | I12: =IFERROR(INDEX(awayPlayerHcp,MATCH(G12,awayPlayerNames,0)),0) -> 0 | J12: =IF(H12<>"",SUM(H12:I12),0) -> 0 | L12: =homeTeam -> BK Nordkraft | M12: ='Serie 3'!M12 -> 3 | N12: ='Serie 3'!N12 -> 3 | O12: ='Serie 3'!O12 -> 3 | P12: =SUM(E10,J10,P6) -> 3 | Q12: =SUM(M12:P12) -> 12 | AG12: =B12 | AH12: =IF(C12<>"",C12,"")
B13: =IF('Serie 3'!H13<>"",'Serie 3'!G13,IF(serie3udeok,'Serie 3'!$AA$12,"")) | D13: =IFERROR(INDEX(awayPlayerHcp,MATCH(B13,awayPlayerNames,0)),0) -> 0 | E13: =IF(C13<>"",SUM(C13:D13),0) -> 0 | G13: =IF('Serie 3'!C13<>"",'Serie 3'!B13,IF(serie3udeok,'Serie 3'!$AA$12,"")) | I13: =IFERROR(INDEX(awayPlayerHcp,MATCH(G13,awayPlayerNames,0)),0) -> 0 | J13: =IF(H13<>"",SUM(H13:I13),0) -> 0 | L13: =awayTeam -> Five O' Clock | M13: ='Serie 3'!M13 -> 3 | N13: ='Serie 3'!N13 -> 3 | O13: ='Serie 3'!O13 -> 3 | P13: =SUM(E16,J16,P7) -> 3 | Q13: =SUM(M13:P13) -> 12 | AG13: =B13 | AH13: =IF(C13<>"",C13,"")
B14: Fælles serie | D14: 0 | E14: =C14 -> 0 | G14: Fælles serie | I14: 0 | J14: =H14 -> 0 | AG14: =G12 | AH14: =IF(H12<>"",H12,"")
B15: Total | C15: =SUM(C12:C14) -> 0 | D15: =IF(C12<>0,D12,0)+IF(C13<>"",D13,0) -> 0 | E15: =SUM(E12:E14) -> 0 | G15: Total | H15: =SUM(H12:H14) -> 0 | I15: =IF(H12<>0,I12,0)+IF(H13<>"",I13,0) -> 0 | J15: =SUM(J12:J14) -> 0 | AG15: =G13 | AH15: =IF(H13<>"",H13,"")
B16: Point | E16: =2-E10 -> 1 | G16: Point | J16: =2-J10 -> 1

Sheet Slutresultat
B1: =homeTeam -> BK Nordkraft
B2: Navn | C2: Serie 1 | D2: Serie 2 | E2: Serie 3 | F2: Serie 4 | G2: Score | H2: Hcp | I2: Total
B3: =IFERROR(homeD1P1,"") | C3: =IFERROR(INDEX(serie1score,MATCH($B3,serie1names,0)),"") | D3: =IFERROR(INDEX(serie2score,MATCH($B3,serie2names,0)),"") | E3: =IFERROR(INDEX(serie3score,MATCH($B3,serie3names,0)),"") | F3: =IFERROR(INDEX(serie4score,MATCH($B3,serie4names,0)),"") | G3: =SUM(C3:F3) -> 0 | H3: =IFERROR((4-COUNTIF(C3:F3,""))*INDEX(homePlayerHcp,MATCH(B3,homePlayerNames,0)),0) -> 0 | I3: =SUM(G3:H3) -> 0
B4: =IFERROR(HomeD1P2,"") | C4: =IFERROR(INDEX(serie1score,MATCH($B4,serie1names,0)),"") | D4: =IFERROR(INDEX(serie2score,MATCH($B4,serie2names,0)),"") | E4: =IFERROR(INDEX(serie3score,MATCH($B4,serie3names,0)),"") | F4: =IFERROR(INDEX(serie4score,MATCH($B4,serie4names,0)),"") | G4: =SUM(C4:F4) -> 0 | H4: =IFERROR((4-COUNTIF(C4:F4,""))*INDEX(homePlayerHcp,MATCH(B4,homePlayerNames,0)),0) -> 0 | I4: =SUM(G4:H4) -> 0
B5: =IFERROR(HomeD2P1,"") | C5: =IFERROR(INDEX(serie1score,MATCH($B5,serie1names,0)),"") | D5: =IFERROR(INDEX(serie2score,MATCH($B5,serie2names,0)),"") | E5: =IFERROR(INDEX(serie3score,MATCH($B5,serie3names,0)),"") | F5: =IFERROR(INDEX(serie4score,MATCH($B5,serie4names,0)),"") | G5: =SUM(C5:F5) -> 0 | H5: =IFERROR((4-COUNTIF(C5:F5,""))*INDEX(homePlayerHcp,MATCH(B5,homePlayerNames,0)),0) -> 0 | I5: =SUM(G5:H5) -> 0
B6: =IFERROR(HomeD2P2,"") | C6: =IFERROR(INDEX(serie1score,MATCH($B6,serie1names,0)),"") | D6: =IFERROR(INDEX(serie2score,MATCH($B6,serie2names,0)),"") | E6: =IFERROR(INDEX(serie3score,MATCH($B6,serie3names,0)),"") | F6: =IFERROR(INDEX(serie4score,MATCH($B6,serie4names,0)),"") | G6: =SUM(C6:F6) -> 0 | H6: =IFERROR((4-COUNTIF(C6:F6,""))*INDEX(homePlayerHcp,MATCH(B6,homePlayerNames,0)),0) -> 0 | I6: =SUM(G6:H6) -> 0
B7: =IFERROR(HomeRes,"") | C7: =IFERROR(INDEX(serie1score,MATCH($B7,serie1names,0)),"") | D7: =IFERROR(INDEX(serie2score,MATCH($B7,serie2names,0)),"") | E7: =IFERROR(INDEX(serie3score,MATCH($B7,serie3names,0)),"") | F7: =IFERROR(INDEX(serie4score,MATCH($B7,serie4names,0)),"") | G7: =SUM(C7:F7) -> 0 | H7: =IFERROR((4-COUNTIF(C7:F7,""))*INDEX(homePlayerHcp,MATCH(B7,homePlayerNames,0)),0) -> 0 | I7: =SUM(G7:H7) -> 0
B8: Fælles serie | C8: =IF(SUM('Serie 1'!C8,'Serie 1'!H8)=0,"",SUM('Serie 1'!C8,'Serie 1'!H8)) | D8: =IF(SUM('Serie 2'!C8,'Serie 2'!H8)=0,"",SUM('Serie 2'!C8,'Serie 2'!H8)) | E8: =IF(SUM('Serie 3'!C8,'Serie 3'!H8)=0,"",SUM('Serie 3'!C8,'Serie 3'!H8)) | F8: =IF(SUM('Serie 4'!C8,'Serie 4'!H8)=0,"",SUM('Serie 4'!C8,'Serie 4'!H8)) | G8: =SUM(C8:F8) -> 0 | H8: 0 | I8: =SUM(G8:H8) -> 0
B9: Total | C9: =SUM(C3:C8) -> 0 | D9: =SUM(D3:D8) -> 0 | E9: =SUM(E3:E8) -> 0 | F9: =SUM(F3:F8) -> 0 | G9: =SUM(G3:G8) -> 0 | H9: =SUM(H3:H8) -> 0 | I9: =SUM(I3:I8) -> 0
B10: Point | C10: ='Serie 4'!M12 -> 3 | D10: ='Serie 4'!N12 -> 3 | E10: ='Serie 4'!O12 -> 3 | F10: ='Serie 4'!P12 -> 3 | I10: =SUM(C10:F10) -> 12
B12: =awayTeam -> Five O' Clock
B13: Navn | C13: Serie 1 | D13: Serie 2 | E13: Serie 3 | F13: Serie 4 | G13: Score | H13: Hcp | I13: Total
B14: =IFERROR(AwayD1P1,"") | C14: =IFERROR(INDEX(serie1score,MATCH($B14,serie1names,0)),"") | D14: =IFERROR(INDEX(serie2score,MATCH($B14,serie2names,0)),"") | E14: =IFERROR(INDEX(serie3score,MATCH($B14,serie3names,0)),"") | F14: =IFERROR(INDEX(serie4score,MATCH($B14,serie4names,0)),"") | G14: =SUM(C14:F14) -> 0 | H14: =IFERROR((4-COUNTIF(C14:F14,""))*INDEX(awayPlayerHcp,MATCH(B14,awayPlayerNames,0)),0) -> 0 | I14: =SUM(G14:H14) -> 0
B15: =IFERROR(AwayD1P2,"") | C15: =IFERROR(INDEX(serie1score,MATCH($B15,serie1names,0)),"") | D15: =IFERROR(INDEX(serie2score,MATCH($B15,serie2names,0)),"") | E15: =IFERROR(INDEX(serie3score,MATCH($B15,serie3names,0)),"") | F15: =IFERROR(INDEX(serie4score,MATCH($B15,serie4names,0)),"") | G15: =SUM(C15:F15) -> 0 | H15: =IFERROR((4-COUNTIF(C15:F15,""))*INDEX(awayPlayerHcp,MATCH(B15,awayPlayerNames,0)),0) -> 0 | I15: =SUM(G15:H15) -> 0
B16: =IFERROR(AwayD2P1,"") | C16: =IFERROR(INDEX(serie1score,MATCH($B16,serie1names,0)),"") | D16: =IFERROR(INDEX(serie2score,MATCH($B16,serie2names,0)),"") | E16: =IFERROR(INDEX(serie3score,MATCH($B16,serie3names,0)),"") | F16: =IFERROR(INDEX(serie4score,MATCH($B16,serie4names,0)),"") | G16: =SUM(C16:F16) -> 0 | H16: =IFERROR((4-COUNTIF(C16:F16,""))*INDEX(awayPlayerHcp,MATCH(B16,awayPlayerNames,0)),0) -> 0 | I16: =SUM(G16:H16) -> 0
B17: =IFERROR(AwayD2P2,"") | C17: =IFERROR(INDEX(serie1score,MATCH($B17,serie1names,0)),"") | D17: =IFERROR(INDEX(serie2score,MATCH($B17,serie2names,0)),"") | E17: =IFERROR(INDEX(serie3score,MATCH($B17,serie3names,0)),"") | F17: =IFERROR(INDEX(serie4score,MATCH($B17,serie4names,0)),"") | G17: =SUM(C17:F17) -> 0 | H17: =IFERROR((4-COUNTIF(C17:F17,""))*INDEX(awayPlayerHcp,MATCH(B17,awayPlayerNames,0)),0) -> 0 | I17: =SUM(G17:H17) -> 0
B18: =IFERROR(AwayRes,"") | C18: =IFERROR(INDEX(serie1score,MATCH($B18,serie1names,0)),"") | D18: =IFERROR(INDEX(serie2score,MATCH($B18,serie2names,0)),"") | E18: =IFERROR(INDEX(serie3score,MATCH($B18,serie3names,0)),"") | F18: =IFERROR(INDEX(serie4score,MATCH($B18,serie4names,0)),"") | G18: =SUM(C18:F18) -> 0 | H18: =IFERROR((4-COUNTIF(C18:F18,""))*INDEX(awayPlayerHcp,MATCH(B18,awayPlayerNames,0)),0) -> 0 | I18: =SUM(G18:H18) -> 0
B19: Fælles serie | C19: =IF(SUM('Serie 1'!C14,'Serie 1'!H14)=0,"",SUM('Serie 1'!C14,'Serie 1'!H14)) | D19: =IF(SUM('Serie 2'!C14,'Serie 2'!H14)=0,"",SUM('Serie 2'!C14,'Serie 2'!H14)) | E19: =IF(SUM('Serie 3'!C14,'Serie 3'!H14)=0,"",SUM('Serie 3'!C14,'Serie 3'!H14)) | F19: =IF(SUM('Serie 4'!C14,'Serie 4'!H14)=0,"",SUM('Serie 4'!C14,'Serie 4'!H14)) | G19: =SUM(C19:F19) -> 0 | H19: 0 | I19: =SUM(G19:H19) -> 0
B20: Total | C20: =SUM(C14:C19) -> 0 | D20: =SUM(D14:D19) -> 0 | E20: =SUM(E14:E19) -> 0 | F20: =SUM(F14:F19) -> 0 | G20: =SUM(G14:G19) -> 0 | H20: =SUM(H14:H19) -> 0 | I20: =SUM(I14:I19) -> 0
B21: Point | C21: ='Serie 4'!M13 -> 3 | D21: ='Serie 4'!N13 -> 3 | E21: ='Serie 4'!O13 -> 3 | F21: ='Serie 4'!P13 -> 3 | I21: =SUM(C21:F21) -> 12

Sheet Tekst
A2: For mange indtastninger
A3: Mangler indtastninger
