Workbook
Name AwayD1P1: Opsætning!$D$11
Name AwayD1P2: Opsætning!$D$12
Name AwayD2P1: Opsætning!$D$13
Name AwayD2P2: Opsætning!#REF!
Name awayLicens: Data!$H$3:$K$100
Name awayPlayerHcp: Data!$J$2:$J$100
Name awayPlayerNames: Data!$H$2:$H$100
Name awayPlayersActive: Opsætning!$D$18:$D$22
Name AwayRes: Opsætning!$D$15
Name awayTeam: Opsætning!$F$8
Name awayTeamPlayers: Data!$I$2:$I$100
Name dq: Slutresultat!$L$1
Name forlidt: Tekst!$A$3
Name formange: Tekst!$A$2
Name Game: Opsætning!$A$4
Name homeD1P1: Opsætning!$B$11
Name HomeD1P2: Opsætning!$B$12
Name HomeD2P1: Opsætning!$B$13
Name HomeD2P2: Opsætning!#REF!
Name homeDP1: Opsætning!$B$11
Name HomeDP2: Opsætning!$B$12
Name homeLicens: Data!$B$3:$E$100
Name homePlayerHcp: Data!$D$2:$D$100
Name homePlayerNames: Data!$B$2:$B$100
Name homePlayersActive: Opsætning!$B$18:$B$22
Name HomeRes: Opsætning!$B$15
Name homeTeam: Opsætning!$C$8
Name homeTeamPlayers: Data!$C$2:$C$100
Name serie1hjemmeok: 'Serie 1'!$X$8
Name serie1names: 'Serie 1'!$AA$6:$AA$15
Name serie1ok: 'Serie 1'!$X$8
Name serie1score: 'Serie 1'!$AB$6:$AB$15
Name serie1udeok: 'Serie 1'!$X$14
Name serie2hjemmeok: 'Serie 2'!$X$8
Name serie2names: 'Serie 2'!$AA$5:$AA$15
Name serie2score: 'Serie 2'!$AB$5:$AB$15
Name serie2udeok: 'Serie 2'!$X$14
Name serie3hjemmeok: 'Serie 3'!$X$8
Name serie3names: 'Serie 3'!$AA$6:$AA$15
Name serie3score: 'Serie 3'!$AB$6:$AB$15
Name serie3udeok: 'Serie 3'!$X$14
Name serie4names: 'Serie 4'!$AB$6:$AB$15
Name serie4score: 'Serie 4'!$AC$6:$AC$15

Sheet Data
C1: Hjemme | D1: hcp | I1: Ude | J1: hcp
C3: =IF(B3<>"",B3&" ("&A3&")","") | E3: =IF(A3="","",A3) | G3: 030311-01 | H3: Abbie Reedtz | I3: =IF(H3<>"",H3&" ("&G3&")","") | J3: 47 | K3: =IF(G3="","",G3)
C4: =IF(B4<>"",B4&" ("&A4&")","") | E4: =IF(A4="","",A4) | G4: 080515-01 | H4: Andreas Emil Jørgensen | I4: =IF(H4<>"",H4&" ("&G4&")","") | J4: 135 | K4: =IF(G4="","",G4)
C5: =IF(B5<>"",B5&" ("&A5&")","") | E5: =IF(A5="","",A5) | G5: 220183-01 | H5: Bo Lentz | I5: =IF(H5<>"",H5&" ("&G5&")","") | J5: 7 | K5: =IF(G5="","",G5)
C6: =IF(B6<>"",B6&" ("&A6&")","") | E6: =IF(A6="","",A6) | G6: 020595-01 | H6: Ditlev Sørensen | I6: =IF(H6<>"",H6&" ("&G6&")","") | J6: 72 | K6: =IF(G6="","",G6)
C7: =IF(B7<>"",B7&" ("&A7&")","") | E7: =IF(A7="","",A7) | G7: 020272-01 | H7: Janni Guldbæk | I7: =IF(H7<>"",H7&" ("&G7&")","") | J7: 17 | K7: =IF(G7="","",G7)
C8: =IF(B8<>"",B8&" ("&A8&")","") | E8: =IF(A8="","",A8) | G8: 020411-01 | H8: Jeppe Vodstrup Andersen | I8: =IF(H8<>"",H8&" ("&G8&")","") | J8: 61 | K8: =IF(G8="","",G8)
C9: =IF(B9<>"",B9&" ("&A9&")","") | E9: =IF(A9="","",A9) | G9: 050852-01 | H9: Lisbeth Bang | I9: =IF(H9<>"",H9&" ("&G9&")","") | J9: 81 | K9: =IF(G9="","",G9)
C10: =IF(B10<>"",B10&" ("&A10&")","") | E10: =IF(A10="","",A10) | G10: 300114-01 | H10: Mikkel Kjelsteen Krogh | I10: =IF(H10<>"",H10&" ("&G10&")","") | J10: 103 | K10: =IF(G10="","",G10)
C11: =IF(B11<>"",B11&" ("&A11&")","") | E11: =IF(A11="","",A11) | G11: 261214-01 | H11: Oliver Grønbech Nielsen | I11: =IF(H11<>"",H11&" ("&G11&")","") | J11: 85 | K11: =IF(G11="","",G11)
C12: =IF(B12<>"",B12&" ("&A12&")","") | E12: =IF(A12="","",A12) | G12: 080680-01 | H12: Ronni Reedtz | I12: =IF(H12<>"",H12&" ("&G12&")","") | J12: 81 | K12: =IF(G12="","",G12)
C13: =IF(B13<>"",B13&" ("&A13&")","") | E13: =IF(A13="","",A13) | G13: 150678-01 | H13: Thomas Jørgensen | I13: =IF(H13<>"",H13&" ("&G13&")","") | J13: 12 | K13: =IF(G13="","",G13)
C14: =IF(B14<>"",B14&" ("&A14&")","") | E14: =IF(A14="","",A14) | I14: =IF(H14<>"",H14&" ("&G14&")","") | K14: =IF(G14="","",G14)
C15: =IF(B15<>"",B15&" ("&A15&")","") | E15: =IF(A15="","",A15) | I15: =IF(H15<>"",H15&" ("&G15&")","") | K15: =IF(G15="","",G15)
C16: =IF(B16<>"",B16&" ("&A16&")","") | E16: =IF(A16="","",A16) | I16: =IF(H16<>"",H16&" ("&G16&")","") | K16: =IF(G16="","",G16)
C17: =IF(B17<>"",B17&" ("&A17&")","") | E17: =IF(A17="","",A17) | I17: =IF(H17<>"",H17&" ("&G17&")","") | K17: =IF(G17="","",G17)
C18: =IF(B18<>"",B18&" ("&A18&")","") | E18: =IF(A18="","",A18) | I18: =IF(H18<>"",H18&" ("&G18&")","") | K18: =IF(G18="","",G18)
C19: =IF(B19<>"",B19&" ("&A19&")","") | E19: =IF(A19="","",A19) | I19: =IF(H19<>"",H19&" ("&G19&")","") | K19: =IF(G19="","",G19)
C20: =IF(B20<>"",B20&" ("&A20&")","") | E20: =IF(A20="","",A20) | I20: =IF(H20<>"",H20&" ("&G20&")","") | K20: =IF(G20="","",G20)
C21: =IF(B21<>"",B21&" ("&A21&")","") | E21: =IF(A21="","",A21) | I21: =IF(H21<>"",H21&" ("&G21&")","") | K21: =IF(G21="","",G21)
C22: =IF(B22<>"",B22&" ("&A22&")","") | E22: =IF(A22="","",A22) | I22: =IF(H22<>"",H22&" ("&G22&")","") | K22: =IF(G22="","",G22)
C23: =IF(B23<>"",B23&" ("&A23&")","") | E23: =IF(A23="","",A23) | I23: =IF(H23<>"",H23&" ("&G23&")","") | K23: =IF(G23="","",G23)
C24: =IF(B24<>"",B24&" ("&A24&")","") | E24: =IF(A24="","",A24) | I24: =IF(H24<>"",H24&" ("&G24&")","") | K24: =IF(G24="","",G24)
C25: =IF(B25<>"",B25&" ("&A25&")","") | E25: =IF(A25="","",A25) | I25: =IF(H25<>"",H25&" ("&G25&")","") | K25: =IF(G25="","",G25)
... C100: =IF(B100<>"",B100&" ("&A100&")","") | E100: =IF(A100="","",A100) | I100: =IF(H100<>"",H100&" ("&G100&")","") | K100: =IF(G100="","",G100)
C101: =IF(B101<>"",B101&" ("&A101&")","") | I101: =IF(H101<>"",H101&" ("&G101&")","")
C102: =IF(B102<>"",B102&" ("&A102&")","") | I102: =IF(H102<>"",H102&" ("&G102&")","")
C103: =IF(B103<>"",B103&" ("&A103&")","") | I103: =IF(H103<>"",H103&" ("&G103&")","")
C104: =IF(B104<>"",B104&" ("&A104&")","") | I104: =IF(H104<>"",H104&" ("&G104&")","")
C105: =IF(B105<>"",B105&" ("&A105&")","") | I105: =IF(H105<>"",H105&" ("&G105&")","")
C106: =IF(B106<>"",B106&" ("&A106&")","") | I106: =IF(H106<>"",H106&" ("&G106&")","")
C107: =IF(B107<>"",B107&" ("&A107&")","") | I107: =IF(H107<>"",H107&" ("&G107&")","")
C108: =IF(B108<>"",B108&" ("&A108&")","") | I108: =IF(H108<>"",H108&" ("&G108&")","")
C109: =IF(B109<>"",B109&" ("&A109&")","") | I109: =IF(H109<>"",H109&" ("&G109&")","")
C110: =IF(B110<>"",B110&" ("&A110&")","") | I110: =IF(H110<>"",H110&" ("&G110&")","")
C111: =IF(B111<>"",B111&" ("&A111&")","") | I111: =IF(H111<>"",H111&" ("&G111&")","")
C112: =IF(B112<>"",B112&" ("&A112&")","") | I112: =IF(H112<>"",H112&" ("&G112&")","")
... C150: =IF(B150<>"",B150&" ("&A150&")","") | I150: =IF(H150<>"",H150&" ("&G150&")","")

Sheet Opsætning
A1: Lokal Turnering Aalborg
A3: Kamp | C3: Ugedag | E3: Dato | F3: Tid
A4: 502 | C4: Lørdag | E4: 46431 | F4: 10:00
C7: Hjemme | F7: Ude
A8: Hold | C8: BK Outsiders | F8: Stenhuset 2
A10: Trio
A11: Spiller 1 | B11: =IFERROR(INDEX(homePlayerNames,MATCH(Opsætning!C11,homeTeamPlayers,)),"") | D11: =IFERROR(INDEX(awayPlayerNames,MATCH(Opsætning!F11,awayTeamPlayers,)),"")
A12: Spiller 2 | B12: =IFERROR(INDEX(homePlayerNames,MATCH(Opsætning!C12,homeTeamPlayers,)),"") | D12: =IFERROR(INDEX(awayPlayerNames,MATCH(Opsætning!F12,awayTeamPlayers,)),"")
A13: Spiller 3 | B13: =IFERROR(INDEX(homePlayerNames,MATCH(Opsætning!C13,homeTeamPlayers,)),"") | D13: =IFERROR(INDEX(awayPlayerNames,MATCH(Opsætning!F13,awayTeamPlayers,)),"")
A15: Udskifter | B15: =IFERROR(INDEX(homePlayerNames,MATCH(Opsætning!C15,homeTeamPlayers,)),"") | D15: =IFERROR(INDEX(awayPlayerNames,MATCH(Opsætning!F15,awayTeamPlayers,)),"")
B18: =homeD1P1 | D18: =AwayD1P1
B19: =HomeD1P2 | D19: =AwayD1P2
B20: =HomeD2P1 | D20: =AwayD2P1
B22: =HomeRes | D22: =AwayRes

Sheet Serie 1
B1: Serie 1
B3: Hjemmehold starter ulige bane | G3: Kegler | U3: Res | W3: dou 1 | X3: dou 2
B5: Navn | C5: Score | D5: Hcp | E5: Total | G5: Hold | H5: Score | I5: Hcp | J5: Total | U5: Hjemme | W5: =COUNTBLANK(C6:C9) -> 4
A6: Hjemme | B6: =IFERROR(homeD1P1,"") | D6: =IFERROR(INDEX(homePlayerHcp,MATCH(B6,homePlayerNames,0)),0) -> 0 | E6: =IF(C6<>"",IF(SUM(C6:D6)>300,300,SUM(C6:D6)),0) -> 0 | G6: =homeTeam -> BK Nordkraft | H6: =C10 -> 0 | I6: =D10 -> 0 | J6: =SUM(H6:I6) -> 0 | U6: =HomeRes | W6: =IF(W5=1,"ok",IF(W5>1,forlidt,formange)) -> Mangler indtastninger | AA6: =B6 | AB6: =IF(C6<>"",C6,"")
B7: =IFERROR(HomeD1P2,"") | D7: =IFERROR(INDEX(homePlayerHcp,MATCH(B7,homePlayerNames,0)),0) -> 0 | E7: =IF(C7<>"",IF(SUM(C7:D7)>300,300,SUM(C7:D7)),0) -> 0 | G7: =awayTeam -> Five O' Clock | H7: =C17 -> 0 | I7: =D17 -> 0 | J7: =SUM(H7:I7) -> 0 | W7: =IF(C6="",B6,IF(C7="",B7,IF(C8="",B8,""))) | AA7: =B7 | AB7: =IF(C7<>"",C7,"")
B8: =IFERROR(HomeD2P1,"") | D8: =IFERROR(INDEX(homePlayerHcp,MATCH(B8,homePlayerNames,0)),0) -> 0 | E8: =IF(C8<>"",IF(SUM(C8:D8)>300,300,SUM(C8:D8)),0) -> 0 | U8: =IF(COUNTIF(W6:X6,"ok")=1,W8,"") | W8: =IF(W7<>"",W7,IF(X7<>"",X7,U6)) | X8: =IF(COUNTIF(W6:X6,"ok")=1,TRUE,FALSE) -> FALSE | AA8: =B8 | AB8: =IF(C8<>"",C8,"")
B9: Fælles serie | D9: 0 | E9: =C9 -> 0 | G9: Stilling | AB9: =IF(C9<>"",C9,"")
B10: Total | C10: =SUM(C6:C9) -> 0 | D10: =SUM(D6:D9) -> 0 | E10: =SUM(E6:E9) -> 0
B11: Point | E11: =IF(E10=0,0,IF(E10>E17,2,IF(E10=E17,1,0))) -> 0 | G11: Hold | H11: Serie 1 | I11: Total | U11: Ude | W11: =COUNTBLANK(C13:C16) -> 4
B12: Navn | C12: Score | D12: Hcp | E12: Total | G12: =homeTeam -> BK Nordkraft | H12: =SUM(E11) -> 0 | I12: =SUM(H12:H12) -> 0 | U12: =AwayRes | W12: =IF(W11=1,"ok",IF(W11>1,forlidt,formange)) -> Mangler indtastninger | AA12: =B13 | AB12: =IF(C13<>"",C13,"")
A13: Ude | B13: =IFERROR(AwayD1P1,"") | D13: =IFERROR(INDEX(awayPlayerHcp,MATCH(B13,awayPlayerNames,0)),0) -> 0 | E13: =IF(C13<>"",IF(SUM(C13:D13)>300,300,SUM(C13:D13)),0) -> 0 | G13: =awayTeam -> Five O' Clock | H13: =SUM(E18) -> 0 | I13: =SUM(H13:H13) -> 0 | W13: =IF(C13="",B13,IF(C14="",B14,IF(C15="",B15,""))) | AA13: =B14 | AB13: =IF(C14<>"",C14,"")
B14: =IFERROR(AwayD1P2,"") | D14: =IFERROR(INDEX(awayPlayerHcp,MATCH(B14,awayPlayerNames,0)),0) -> 0 | E14: =IF(C14<>"",IF(SUM(C14:D14)>300,300,SUM(C14:D14)),0) -> 0 | U14: =IF(COUNTIF(W12:X12,"ok")=1,W14,"") | W14: =IF(W13<>"",W13,IF(X13<>"",X13,U12)) | X14: =IF(COUNTIF(W12:X12,"ok")=1,TRUE,FALSE) -> FALSE | AA14: =B15 | AB14: =IF(C15<>"",C15,"")
B15: =IFERROR(AwayD2P1,"") | D15: =IFERROR(INDEX(awayPlayerHcp,MATCH(B15,awayPlayerNames,0)),0) -> 0 | E15: =IF(C15<>"",IF(SUM(C15:D15)>300,300,SUM(C15:D15)),0) -> 0
B16: Fælles serie | D16: 0 | E16: =C16 -> 0
B17: Total | C17: =SUM(C13:C16) -> 0 | D17: =SUM(D13:D16) -> 0 | E17: =SUM(E13:E16) -> 0
B18: Point | E18: =IF(E17=0,0,2-E11) -> 0

Sheet Serie 2
B1: Serie 2
B3: hjemmehold starter lige bane | G3: Kegler | U3: Res | W3: dou 1 | X3: dou 2
B5: Navn | C5: Score | D5: Hcp | E5: Total | G5: Hold | H5: Score | I5: Hcp | J5: Total | U5: Hjemme | W5: =COUNTBLANK(C6:C9) -> 4
A6: Hjemme | B6: =IF('Serie 1'!C6<>"",'Serie 1'!B6,IF(serie1hjemmeok,'Serie 1'!$U$6,"")) | D6: =IFERROR(INDEX(homePlayerHcp,MATCH(B6,homePlayerNames,0)),0) -> 0 | E6: =IF(C6<>"",IF(SUM(C6:D6)>300,300,SUM(C6:D6)),0) -> 0 | G6: =homeTeam -> BK Nordkraft | H6: =C10 -> 0 | I6: =D10 -> 0 | J6: =SUM(H6:I6) -> 0 | U6: ='Serie 1'!U8 | W6: =IF(W5=1,"ok",IF(W5>1,forlidt,formange)) -> Mangler indtastninger | AA6: =B6 | AB6: =IF(C6<>"",C6,"")
B7: =IF('Serie 1'!C7<>"",'Serie 1'!B7,IF(serie1hjemmeok,'Serie 1'!$U$6,"")) | D7: =IFERROR(INDEX(homePlayerHcp,MATCH(B7,homePlayerNames,0)),0) -> 0 | E7: =IF(C7<>"",IF(SUM(C7:D7)>300,300,SUM(C7:D7)),0) -> 0 | G7: =awayTeam -> Five O' Clock | H7: =C17 -> 0 | I7: =D17 -> 0 | J7: =SUM(H7:I7) -> 0 | W7: =IF(C6="",B6,IF(C7="",B7,IF(C8="",B8,""))) | AA7: =B7 | AB7: =IF(C7<>"",C7,"")
B8: =IF('Serie 1'!C8<>"",'Serie 1'!B8,IF(serie1hjemmeok,'Serie 1'!$U$6,"")) | D8: =IFERROR(INDEX(homePlayerHcp,MATCH(B8,homePlayerNames,0)),0) -> 0 | E8: =IF(C8<>"",IF(SUM(C8:D8)>300,300,SUM(C8:D8)),0) -> 0 | U8: =IF(COUNTIF(W6:X6,"ok")=1,W8,"") | W8: =IF(W7<>"",W7,IF(X7<>"",X7,U6)) | X8: =IF(COUNTIF(W6:X6,"ok")=1,TRUE,FALSE) -> FALSE | AA8: =B8 | AB8: =IF(C8<>"",C8,"")
B9: Fælles serie | D9: 0 | E9: =C9 -> 0 | G9: Stilling
B10: Total | C10: =SUM(C6:C9) -> 0 | D10: =IF(C6<>0,D6,0)+IF(C8<>"",D8,0)+IF(C7<>"",D7,0) -> 0 | E10: =SUM(E6:E9) -> 0
B11: Point | E11: =IF(E10=0,0,IF(E10>E17,2,IF(E10=E17,1,0))) -> 0 | G11: Hold | H11: Serie 1 | I11: Serie 2 | J11: Total | U11: Ude | W11: =COUNTBLANK(C13:C16) -> 4
B12: Navn | C12: Score | D12: Hcp | E12: Total | G12: =homeTeam -> BK Nordkraft | H12: ='Serie 1'!H12 -> 0 | I12: =E11 -> 0 | J12: =SUM(H12:I12) -> 0 | U12: ='Serie 1'!U14 | W12: =IF(W11=1,"ok",IF(W11>1,forlidt,formange)) -> Mangler indtastninger | AA12: =B13 | AB12: =IF(C13<>"",C13,"")
A13: Ude | B13: =IF('Serie 1'!C13<>"",'Serie 1'!B13,IF(serie1udeok,'Serie 1'!$U$12,"")) | D13: =IFERROR(INDEX(awayPlayerHcp,MATCH(B13,awayPlayerNames,0)),0) -> 0 | E13: =IF(C13<>"",IF(SUM(C13:D13)>300,300,SUM(C13:D13)),0) -> 0 | G13: =awayTeam -> Five O' Clock | H13: ='Serie 1'!H13 -> 0 | I13: =E18 -> 0 | J13: =SUM(H13:I13) -> 0 | W13: =IF(C13="",B13,IF(C14="",B14,IF(C15="",B15,""))) | AA13: =B14 | AB13: =IF(C14<>"",C14,"")
B14: =IF('Serie 1'!C14<>"",'Serie 1'!B14,IF(serie1udeok,'Serie 1'!$U$12,"")) | D14: =IFERROR(INDEX(awayPlayerHcp,MATCH(B14,awayPlayerNames,0)),0) -> 0 | E14: =IF(C14<>"",IF(SUM(C14:D14)>300,300,SUM(C14:D14)),0) -> 0 | U14: =IF(COUNTIF(W12:X12,"ok")=1,W14,"") | W14: =IF(W13<>"",W13,IF(X13<>"",X13,U12)) | X14: =IF(COUNTIF(W12:X12,"ok")=1,TRUE,FALSE) -> FALSE | AA14: =B15 | AB14: =IF(C15<>"",C15,"")
B15: =IF('Serie 1'!C15<>"",'Serie 1'!B15,IF(serie1udeok,'Serie 1'!$U$12,"")) | D15: =IFERROR(INDEX(awayPlayerHcp,MATCH(B15,awayPlayerNames,0)),0) -> 0 | E15: =IF(C15<>"",IF(SUM(C15:D15)>300,300,SUM(C15:D15)),0) -> 0
B16: Fælles serie | D16: 0 | E16: =C16 -> 0
B17: Total | C17: =SUM(C13:C16) -> 0 | D17: =IF(C13<>0,D13,0)+IF(C14<>"",D14,0)+IF(C15<>"",D15,0) -> 0 | E17: =SUM(E13:E16) -> 0
B18: Point | E18: =IF(E17=0,0,2-E11) -> 0

Sheet Serie 3
B1: Serie 3
B3: hjemmehold starter ulige bane | G3: Kegler | U3: Res | W3: dou 1 | X3: dou 2
B5: Navn | C5: Score | D5: Hcp | E5: Total | G5: Hold | H5: Score | I5: Hcp | J5: Total | U5: Hjemme | W5: =COUNTBLANK(C6:C9) -> 4
A6: Hjemme | B6: =IF('Serie 2'!C6<>"",'Serie 2'!B6,IF(serie2hjemmeok,'Serie 2'!$U$12,"")) | D6: =IFERROR(INDEX(homePlayerHcp,MATCH(B6,homePlayerNames,0)),0) -> 0 | E6: =IF(C6<>"",IF(SUM(C6:D6)>300,300,SUM(C6:D6)),0) -> 0 | G6: =homeTeam -> BK Nordkraft | H6: =C10 -> 0 | I6: =D10 -> 0 | J6: =SUM(H6:I6) -> 0 | U6: ='Serie 2'!U8 | W6: =IF(W5=1,"ok",IF(W5>1,forlidt,formange)) -> Mangler indtastninger | AA6: =B6 | AB6: =IF(C6<>"",C6,"")
B7: =IF('Serie 2'!C7<>"",'Serie 2'!B7,IF(serie2hjemmeok,'Serie 2'!$U$12,"")) | D7: =IFERROR(INDEX(homePlayerHcp,MATCH(B7,homePlayerNames,0)),0) -> 0 | E7: =IF(C7<>"",IF(SUM(C7:D7)>300,300,SUM(C7:D7)),0) -> 0 | G7: =awayTeam -> Five O' Clock | H7: =C17 -> 0 | I7: =D17 -> 0 | J7: =SUM(H7:I7) -> 0 | W7: =IF(C6="",B6,IF(C7="",B7,IF(C8="",B8,""))) | AA7: =B7 | AB7: =IF(C7<>"",C7,"")
B8: =IF('Serie 2'!C8<>"",'Serie 2'!B8,IF(serie2hjemmeok,'Serie 2'!$U$12,"")) | D8: =IFERROR(INDEX(homePlayerHcp,MATCH(B8,homePlayerNames,0)),0) -> 0 | E8: =IF(C8<>"",IF(SUM(C8:D8)>300,300,SUM(C8:D8)),0) -> 0 | U8: =IF(COUNTIF(W6:X6,"ok")=1,W8,"") | W8: =IF(W7<>"",W7,IF(X7<>"",X7,U6)) | X8: =IF(COUNTIF(W6:X6,"ok")=1,TRUE,FALSE) -> FALSE | AA8: =B8 | AB8: =IF(C8<>"",C8,"")
B9: Fælles serie | D9: 0 | E9: =C9 -> 0 | G9: Stilling
B10: Total | C10: =SUM(C6:C9) -> 0 | D10: =IF(C6<>0,D6,0)+IF(C8<>"",D8,0)+IF(C7<>"",D7,0) -> 0 | E10: =SUM(E6:E9) -> 0
B11: Point | E11: =IF(E10=0,0,IF(E10>E17,2,IF(E10=E17,1,0))) -> 0 | G11: Hold | H11: Serie 1 | I11: Serie 2 | J11: Serie 3 | K11: Total | U11: Ude | W11: =COUNTBLANK(C13:C16) -> 4
B12: Navn | C12: Score | D12: Hcp | E12: Total | G12: =homeTeam -> BK Nordkraft | H12: ='Serie 2'!H12 -> 0 | I12: ='Serie 2'!I12 -> 0 | J12: =E11 -> 0 | K12: =SUM(H12:J12) -> 0 | U12: ='Serie 2'!U14 | W12: =IF(W11=1,"ok",IF(W11>1,forlidt,formange)) -> Mangler indtastninger | AA12: =B13 | AB12: =IF(C13<>"",C13,"")
A13: Ude | B13: =IF('Serie 2'!C13<>"",'Serie 2'!B13,IF(serie2udeok,'Serie 2'!$U$12,"")) | D13: =IFERROR(INDEX(awayPlayerHcp,MATCH(B13,awayPlayerNames,0)),0) -> 0 | E13: =IF(C13<>"",IF(SUM(C13:D13)>300,300,SUM(C13:D13)),0) -> 0 | G13: =awayTeam -> Five O' Clock | H13: ='Serie 2'!H13 -> 0 | I13: ='Serie 2'!I13 -> 0 | J13: =E18 -> 0 | K13: =SUM(H13:J13) -> 0 | W13: =IF(C13="",B13,IF(C14="",B14,IF(C15="",B15,""))) | AA13: =B14 | AB13: =IF(C14<>"",C14,"")
B14: =IF('Serie 2'!C14<>"",'Serie 2'!B14,IF(serie2udeok,'Serie 2'!$U$12,"")) | D14: =IFERROR(INDEX(awayPlayerHcp,MATCH(B14,awayPlayerNames,0)),0) -> 0 | E14: =IF(C14<>"",IF(SUM(C14:D14)>300,300,SUM(C14:D14)),0) -> 0 | U14: =IF(COUNTIF(W12:X12,"ok")=1,W14,"") | W14: =IF(W13<>"",W13,IF(X13<>"",X13,U12)) | X14: =IF(COUNTIF(W12:X12,"ok")=1,TRUE,FALSE) -> FALSE | AA14: =B15 | AB14: =IF(C15<>"",C15,"")
B15: =IF('Serie 2'!C15<>"",'Serie 2'!B15,IF(serie2udeok,'Serie 2'!$U$12,"")) | D15: =IFERROR(INDEX(awayPlayerHcp,MATCH(B15,awayPlayerNames,0)),0) -> 0 | E15: =IF(C15<>"",IF(SUM(C15:D15)>300,300,SUM(C15:D15)),0) -> 0
B16: Fælles serie | D16: 0 | E16: =C16 -> 0
B17: Total | C17: =SUM(C13:C16) -> 0 | D17: =IF(C13<>0,D13,0)+IF(C14<>"",D14,0)+IF(C15<>"",D15,0) -> 0 | E17: =SUM(E13:E16) -> 0
B18: Point | E18: =IF(E17=0,0,2-E11) -> 0

Sheet Serie 4
B1: Serie 4
B3: hjemmehold starter lige bane | G3: Kegler
B5: Navn | C5: Score | D5: Hcp | E5: Total | G5: Hold | H5: Score | I5: Hcp | J5: Total
A6: Hjemme | B6: =IF('Serie 3'!C6<>"",'Serie 3'!B6,IF(serie3hjemmeok,'Serie 3'!$U$6,"")) | D6: =IFERROR(INDEX(homePlayerHcp,MATCH(B6,homePlayerNames,0)),0) -> 0 | E6: =IF(C6<>"",IF(SUM(C6:D6)>300,300,SUM(C6:D6)),0) -> 0 | G6: =homeTeam -> BK Nordkraft | H6: =C10 -> 0 | I6: =D10 -> 0 | J6: =SUM(H6:I6) -> 0 | AB6: =B6 | AC6: =IF(C6<>"",C6,"")
B7: =IF('Serie 3'!C7<>"",'Serie 3'!B7,IF(serie3hjemmeok,'Serie 3'!$U$6,"")) | D7: =IFERROR(INDEX(homePlayerHcp,MATCH(B7,homePlayerNames,0)),0) -> 0 | E7: =IF(C7<>"",IF(SUM(C7:D7)>300,300,SUM(C7:D7)),0) -> 0 | G7: =awayTeam -> Five O' Clock | H7: =C17 -> 0 | I7: =D17 -> 0 | J7: =SUM(H7:I7) -> 0 | AB7: =B7 | AC7: =IF(C7<>"",C7,"")
B8: =IF('Serie 3'!C8<>"",'Serie 3'!B8,IF(serie3hjemmeok,'Serie 3'!$U$6,"")) | D8: =IFERROR(INDEX(homePlayerHcp,MATCH(B8,homePlayerNames,0)),0) -> 0 | E8: =IF(C8<>"",IF(SUM(C8:D8)>300,300,SUM(C8:D8)),0) -> 0 | AB8: =B8 | AC8: =IF(C8<>"",C8,"")
B9: Fælles serie | D9: 0 | E9: =C9 -> 0 | G9: Stilling
B10: Total | C10: =SUM(C6:C9) -> 0 | D10: =IF(C6<>0,D6,0)+IF(C8<>"",D8,0)+IF(C7<>"",D7,0) -> 0 | E10: =SUM(E6:E9) -> 0
B11: Point | E11: =IF(E10=0,0,IF(E10>E17,2,IF(E10=E17,1,0))) -> 0 | G11: Hold | H11: Serie 1 | I11: Serie 2 | J11: Serie 3 | K11: Serie 4 | L11: Total
B12: Navn | C12: Score | D12: Hcp | E12: Total | G12: =homeTeam -> BK Nordkraft | H12: ='Serie 3'!H12 -> 0 | I12: ='Serie 3'!I12 -> 0 | J12: ='Serie 3'!J12 -> 0 | K12: =E11 -> 0 | L12: =SUM(H12:K12) -> 0 | AB12: =B13 | AC12: =IF(C13<>"",C13,"")
A13: Ude | B13: =IF('Serie 3'!C13<>"",'Serie 3'!B13,IF(serie3udeok,'Serie 3'!$U$12,"")) | D13: =IFERROR(INDEX(awayPlayerHcp,MATCH(B13,awayPlayerNames,0)),0) -> 0 | E13: =IF(C13<>"",IF(SUM(C13:D13)>300,300,SUM(C13:D13)),0) -> 0 | G13: =awayTeam -> Five O' Clock | H13: ='Serie 3'!H13 -> 0 | I13: ='Serie 3'!I13 -> 0 | J13: ='Serie 3'!J13 -> 0 | K13: =E18 -> 0 | L13: =SUM(H13:K13) -> 0 | AB13: =B14 | AC13: =IF(C14<>"",C14,"")
B14: =IF('Serie 3'!C14<>"",'Serie 3'!B14,IF(serie3udeok,'Serie 3'!$U$12,"")) | D14: =IFERROR(INDEX(awayPlayerHcp,MATCH(B14,awayPlayerNames,0)),0) -> 0 | E14: =IF(C14<>"",IF(SUM(C14:D14)>300,300,SUM(C14:D14)),0) -> 0 | AB14: =B15 | AC14: =IF(C15<>"",C15,"")
B15: =IF('Serie 3'!C15<>"",'Serie 3'!B15,IF(serie3udeok,'Serie 3'!$U$12,"")) | D15: =IFERROR(INDEX(awayPlayerHcp,MATCH(B15,awayPlayerNames,0)),0) -> 0 | E15: =IF(C15<>"",IF(SUM(C15:D15)>300,300,SUM(C15:D15)),0) -> 0
B16: Fælles serie | D16: 0 | E16: =C16 -> 0
B17: Total | C17: =SUM(C13:C16) -> 0 | D17: =IF(C13<>0,D13,0)+IF(C14<>"",D14,0)+IF(C15<>"",D15,0) -> 0 | E17: =SUM(E13:E16) -> 0
B18: Point | E18: =IF(E17=0,0,2-E11) -> 0

Sheet Slutresultat
B1: =homeTeam -> BK Nordkraft | L1: " | M1: ="{ "&dq&"Game"&dq&": "&dq&Game&dq&"," -> { "Game": "40",
B2: Navn | C2: Medlemsnr. | D2: Serie 1 | E2: Serie 2 | F2: Serie 3 | G2: Serie 4 | H2: Score | I2: Hcp | J2: Total | M2: =dq&"HomeTeam"&dq&": { "&dq&"TeamName"&dq&": "&dq&B1&dq&","&dq&"Players"&dq&": {" -> "HomeTeam": { "TeamName": "BK Nordkraft","Players": {
B3: =IFERROR(homeD1P1,"") | C3: =IFERROR(VLOOKUP(B3,homeLicens,4,FALSE),"") | D3: =IFERROR(INDEX(serie1score,MATCH($B3,serie1names,0)),"") | E3: =IFERROR(INDEX(serie2score,MATCH($B3,serie2names,0)),"") | F3: =IFERROR(INDEX(serie3score,MATCH($B3,serie3names,0)),"") | G3: =IFERROR(INDEX(serie4score,MATCH($B3,serie4names,0)),"") | H3: =SUM(D3:G3) -> 0 | I3: =IFERROR((4-COUNTIF(D3:G3,""))*INDEX(homePlayerHcp,MATCH(B3,homePlayerNames,0)),0) -> 0 | J3: =SUM(H3:I3) -> 0 | M3: =IF(B3="","",dq&"Player 1"&dq&": { "&dq&"Name"&dq&": "&dq&B3&dq&", "&dq&"MemberNo"&dq&": "&dq&C3&dq&", "&dq&"Serie 1"&dq&": "&dq&D3&dq&", "&dq&"Serie 2"&dq&": "&dq&E3&dq&", "&dq&"Serie 3"&dq&": "&dq&F3&dq&", "&dq&"Serie 4"&dq&": "&dq&G3&dq&"} ")
B4: =IFERROR(HomeD1P2,"") | C4: =IFERROR(VLOOKUP(B4,homeLicens,4,FALSE),"") | D4: =IFERROR(INDEX(serie1score,MATCH($B4,serie1names,0)),"") | E4: =IFERROR(INDEX(serie2score,MATCH($B4,serie2names,0)),"") | F4: =IFERROR(INDEX(serie3score,MATCH($B4,serie3names,0)),"") | G4: =IFERROR(INDEX(serie4score,MATCH($B4,serie4names,0)),"") | H4: =SUM(D4:G4) -> 0 | I4: =IFERROR((4-COUNTIF(D4:G4,""))*INDEX(homePlayerHcp,MATCH(B4,homePlayerNames,0)),0) -> 0 | J4: =SUM(H4:I4) -> 0 | M4: =IF(B4="","",","&dq&"Player 2"&dq&": { "&dq&"Name"&dq&": "&dq&B4&dq&", "&dq&"MemberNo"&dq&": "&dq&C4&dq&", "&dq&"Serie 1"&dq&": "&dq&D4&dq&", "&dq&"Serie 2"&dq&": "&dq&E4&dq&", "&dq&"Serie 3"&dq&": "&dq&F4&dq&", "&dq&"Serie 4"&dq&": "&dq&G4&dq&"}")
B5: =IFERROR(HomeD2P1,"") | C5: =IFERROR(VLOOKUP(B5,homeLicens,4,FALSE),"") | D5: =IFERROR(INDEX(serie1score,MATCH($B5,serie1names,0)),"") | E5: =IFERROR(INDEX(serie2score,MATCH($B5,serie2names,0)),"") | F5: =IFERROR(INDEX(serie3score,MATCH($B5,serie3names,0)),"") | G5: =IFERROR(INDEX(serie4score,MATCH($B5,serie4names,0)),"") | H5: =SUM(D5:G5) -> 0 | I5: =IFERROR((4-COUNTIF(D5:G5,""))*INDEX(homePlayerHcp,MATCH(B5,homePlayerNames,0)),0) -> 0 | J5: =SUM(H5:I5) -> 0 | M5: =IF(B5="","",","&dq&"Player 3"&dq&": { "&dq&"Name"&dq&": "&dq&B5&dq&", "&dq&"MemberNo"&dq&": "&dq&C5&dq&", "&dq&"Serie 1"&dq&": "&dq&D5&dq&", "&dq&"Serie 2"&dq&": "&dq&E5&dq&", "&dq&"Serie 3"&dq&": "&dq&F5&dq&", "&dq&"Serie 4"&dq&": "&dq&G5&dq&"}")
B6: =IFERROR(HomeRes,"") | C6: =IFERROR(VLOOKUP(B6,homeLicens,4,FALSE),"") | D6: =IFERROR(INDEX(serie1score,MATCH($B6,serie1names,0)),"") | E6: =IFERROR(INDEX(serie2score,MATCH($B6,serie2names,0)),"") | F6: =IFERROR(INDEX(serie3score,MATCH($B6,serie3names,0)),"") | G6: =IFERROR(INDEX(serie4score,MATCH($B6,serie4names,0)),"") | H6: =SUM(D6:G6) -> 0 | I6: =IFERROR((4-COUNTIF(D6:G6,""))*INDEX(homePlayerHcp,MATCH(B6,homePlayerNames,0)),0) -> 0 | J6: =SUM(H6:I6) -> 0 | M6: =IF(B3="","",","&dq&"Player 4"&dq&": { "&dq&"Name"&dq&": "&dq&B6&dq&", "&dq&"MemberNo"&dq&": "&dq&C6&dq&", "&dq&"Serie 1"&dq&": "&dq&D6&dq&", "&dq&"Serie 2"&dq&": "&dq&E6&dq&", "&dq&"Serie 3"&dq&": "&dq&F6&dq&", "&dq&"Serie 4"&dq&": "&dq&G6&dq&"}")
B7: Fælles serie | D7: =IF(SUM('Serie 1'!C9)=0,"",SUM('Serie 1'!C9)) | E7: =IF(SUM('Serie 2'!C9)=0,"",SUM('Serie 2'!C9)) | F7: =IF(SUM('Serie 3'!C9)=0,"",SUM('Serie 3'!C9)) | G7: =IF(SUM('Serie 4'!C9)=0,"",SUM('Serie 4'!C9)) | H7: =SUM(D7:G7) -> 0 | I7: 0 | J7: =SUM(H7:I7) -> 0 | M7: =IF(J7=0,"",","&dq&"Shared"&dq&": { "&dq&"Name"&dq&": "&dq&B7&dq&", "&dq&"MemberNo"&dq&": "&dq&C7&dq&", "&dq&"Serie 1"&dq&": "&dq&D7&dq&", "&dq&"Serie 2"&dq&": "&dq&E7&dq&", "&dq&"Serie 3"&dq&": "&dq&F7&dq&", "&dq&"Serie 4"&dq&": "&dq&G7&dq&"} ")
B8: Total | D8: =SUM(D3:D7) -> 0 | E8: =SUM(E3:E7) -> 0 | F8: =SUM(F3:F7) -> 0 | G8: =SUM(G3:G7) -> 0 | H8: =SUM(H3:H7) -> 0 | I8: =SUM(I3:I7) -> 0 | J8: =SUM(J3:J7) -> 0 | M8: ="}}," -> }},
B9: Point | D9: ='Serie 4'!H12 -> 0 | E9: ='Serie 4'!I12 -> 0 | F9: ='Serie 4'!J12 -> 0 | G9: ='Serie 4'!K12 -> 0 | H9: =IF(SUM(G9,G19)>0,IF(J8>J18,2,IF(J8=J18,1,0)),"") | J9: =SUM(D9:H9) -> 0
B11: =awayTeam -> Five O' Clock
B12: Navn | C12: Medlemsnr. | D12: Serie 1 | E12: Serie 2 | F12: Serie 3 | G12: Serie 4 | H12: Score | I12: Hcp | J12: Total | M12: =dq&"AwayTeam"&dq&": { "&dq&"TeamName"&dq&": "&dq&B11&dq&","&dq&"Players"&dq&": {" -> "AwayTeam": { "TeamName": "Five O' Clock","Players": {
B13: =IFERROR(AwayD1P1,"") | C13: =IFERROR(VLOOKUP(B13,awayLicens,4,FALSE),"") | D13: =IFERROR(INDEX(serie1score,MATCH($B13,serie1names,0)),"") | E13: =IFERROR(INDEX(serie2score,MATCH($B13,serie2names,0)),"") | F13: =IFERROR(INDEX(serie3score,MATCH($B13,serie3names,0)),"") | G13: =IFERROR(INDEX(serie4score,MATCH($B13,serie4names,0)),"") | H13: =SUM(D13:G13) -> 0 | I13: =IFERROR((4-COUNTIF(D13:G13,""))*INDEX(awayPlayerHcp,MATCH(B13,awayPlayerNames,0)),0) -> 0 | J13: =SUM(H13:I13) -> 0 | M13: =IF(B13="","",dq&"Player 1"&dq&": { "&dq&"Name"&dq&": "&dq&B13&dq&", "&dq&"MemberNo"&dq&": "&dq&C13&dq&", "&dq&"Serie 1"&dq&": "&dq&D13&dq&", "&dq&"Serie 2"&dq&": "&dq&E13&dq&", "&dq&"Serie 3"&dq&": "&dq&F13&dq&", "&dq&"Serie 4"&dq&": "&dq&G13&dq&"} ")
B14: =IFERROR(AwayD1P2,"") | C14: =IFERROR(VLOOKUP(B14,awayLicens,4,FALSE),"") | D14: =IFERROR(INDEX(serie1score,MATCH($B14,serie1names,0)),"") | E14: =IFERROR(INDEX(serie2score,MATCH($B14,serie2names,0)),"") | F14: =IFERROR(INDEX(serie3score,MATCH($B14,serie3names,0)),"") | G14: =IFERROR(INDEX(serie4score,MATCH($B14,serie4names,0)),"") | H14: =SUM(D14:G14) -> 0 | I14: =IFERROR((4-COUNTIF(D14:G14,""))*INDEX(awayPlayerHcp,MATCH(B14,awayPlayerNames,0)),0) -> 0 | J14: =SUM(H14:I14) -> 0 | M14: =IF(B14="","",","&dq&"Player 2"&dq&": { "&dq&"Name"&dq&": "&dq&B14&dq&", "&dq&"MemberNo"&dq&": "&dq&C14&dq&", "&dq&"Serie 1"&dq&": "&dq&D14&dq&", "&dq&"Serie 2"&dq&": "&dq&E14&dq&", "&dq&"Serie 3"&dq&": "&dq&F14&dq&", "&dq&"Serie 4"&dq&": "&dq&G14&dq&"}")
B15: =IFERROR(AwayD2P1,"") | C15: =IFERROR(VLOOKUP(B15,awayLicens,4,FALSE),"") | D15: =IFERROR(INDEX(serie1score,MATCH($B15,serie1names,0)),"") | E15: =IFERROR(INDEX(serie2score,MATCH($B15,serie2names,0)),"") | F15: =IFERROR(INDEX(serie3score,MATCH($B15,serie3names,0)),"") | G15: =IFERROR(INDEX(serie4score,MATCH($B15,serie4names,0)),"") | H15: =SUM(D15:G15) -> 0 | I15: =IFERROR((4-COUNTIF(D15:G15,""))*INDEX(awayPlayerHcp,MATCH(B15,awayPlayerNames,0)),0) -> 0 | J15: =SUM(H15:I15) -> 0 | M15: =IF(B15="","",","&dq&"Player 3"&dq&": { "&dq&"Name"&dq&": "&dq&B15&dq&", "&dq&"MemberNo"&dq&": "&dq&C15&dq&", "&dq&"Serie 1"&dq&": "&dq&D15&dq&", "&dq&"Serie 2"&dq&": "&dq&E15&dq&", "&dq&"Serie 3"&dq&": "&dq&F15&dq&", "&dq&"Serie 4"&dq&": "&dq&G15&dq&"}")
B16: =IFERROR(AwayRes,"") | C16: =IFERROR(VLOOKUP(B16,awayLicens,4,FALSE),"") | D16: =IFERROR(INDEX(serie1score,MATCH($B16,serie1names,0)),"") | E16: =IFERROR(INDEX(serie2score,MATCH($B16,serie2names,0)),"") | F16: =IFERROR(INDEX(serie3score,MATCH($B16,serie3names,0)),"") | G16: =IFERROR(INDEX(serie4score,MATCH($B16,serie4names,0)),"") | H16: =SUM(D16:G16) -> 0 | I16: =IFERROR((4-COUNTIF(D16:G16,""))*INDEX(awayPlayerHcp,MATCH(B16,awayPlayerNames,0)),0) -> 0 | J16: =SUM(H16:I16) -> 0 | M16: =IF(B13="","",","&dq&"Player 4"&dq&": { "&dq&"Name"&dq&": "&dq&B16&dq&", "&dq&"MemberNo"&dq&": "&dq&C16&dq&", "&dq&"Serie 1"&dq&": "&dq&D16&dq&", "&dq&"Serie 2"&dq&": "&dq&E16&dq&", "&dq&"Serie 3"&dq&": "&dq&F16&dq&", "&dq&"Serie 4"&dq&": "&dq&G16&dq&"}")
B17: Fælles serie | D17: =IF(SUM('Serie 1'!C16)=0,"",SUM('Serie 1'!C16)) | E17: =IF(SUM('Serie 2'!C16)=0,"",SUM('Serie 2'!C16)) | F17: =IF(SUM('Serie 3'!C16)=0,"",SUM('Serie 3'!C16)) | G17: =IF(SUM('Serie 4'!C16)=0,"",SUM('Serie 4'!C16)) | H17: =SUM(D17:G17) -> 0 | I17: 0 | J17: =SUM(H17:I17) -> 0 | M17: =IF(J17=0,"",","&dq&"Shared"&dq&": { "&dq&"Name"&dq&": "&dq&B17&dq&", "&dq&"MemberNo"&dq&": "&dq&C17&dq&", "&dq&"Serie 1"&dq&": "&dq&D17&dq&", "&dq&"Serie 2"&dq&": "&dq&E17&dq&", "&dq&"Serie 3"&dq&": "&dq&F17&dq&", "&dq&"Serie 4"&dq&": "&dq&G17&dq&"} ")
B18: Total | D18: =SUM(D13:D17) -> 0 | E18: =SUM(E13:E17) -> 0 | F18: =SUM(F13:F17) -> 0 | G18: =SUM(G13:G17) -> 0 | H18: =SUM(H13:H17) -> 0 | I18: =SUM(I13:I17) -> 0 | J18: =SUM(J13:J17) -> 0 | M18: ="}}}" -> }}}
B19: Point | D19: ='Serie 4'!H13 -> 0 | E19: ='Serie 4'!I13 -> 0 | F19: ='Serie 4'!J13 -> 0 | G19: ='Serie 4'!K13 -> 0 | H19: =IF(SUM(G9,G19)>0,2-H9,"") | J19: =SUM(D19:H19) -> 0 | M19: =M1&M2&M3&M4&M5&M6&M7&M8&M12&M13&M14&M15&M16&M17&M18 -> { "Game": "40","HomeTeam": { "TeamName": "BK Nordkraft","Players": {}},"AwayTeam": { "TeamName": "Five O' Clock","Players": {}}}
B21: Kopier nedenstående tekst og indsæt på hjemmesiden på følgende link:
B22: =M19 -> { "Game": "40","HomeTeam": { "TeamName": "BK Nordkraft","Players": {}},"AwayTeam": { "TeamName": "Five O' Clock","Players": {}}}

Sheet Tekst
A2: For mange indtastninger
A3: Mangler indtastninger
